BEGIN:VCALENDAR
VERSION:2.0
PRODID:-//Encuentros Pachamama - ECPv6.15.20//NONSGML v1.0//EN
CALSCALE:GREGORIAN
METHOD:PUBLISH
X-WR-CALNAME:Encuentros Pachamama
X-ORIGINAL-URL:https://pachamama.cl
X-WR-CALDESC:Eventos para Encuentros Pachamama
REFRESH-INTERVAL;VALUE=DURATION:PT1H
X-Robots-Tag:noindex
X-PUBLISHED-TTL:PT1H
BEGIN:VTIMEZONE
TZID:America/Santiago
BEGIN:STANDARD
TZOFFSETFROM:-0300
TZOFFSETTO:-0400
TZNAME:-04
DTSTART:20140427T030000
END:STANDARD
BEGIN:DAYLIGHT
TZOFFSETFROM:-0400
TZOFFSETTO:-0300
TZNAME:-03
DTSTART:20140907T040000
END:DAYLIGHT
BEGIN:STANDARD
TZOFFSETFROM:-0300
TZOFFSETTO:-0400
TZNAME:-04
DTSTART:20160515T030000
END:STANDARD
BEGIN:DAYLIGHT
TZOFFSETFROM:-0400
TZOFFSETTO:-0300
TZNAME:-03
DTSTART:20160814T040000
END:DAYLIGHT
BEGIN:STANDARD
TZOFFSETFROM:-0300
TZOFFSETTO:-0400
TZNAME:-04
DTSTART:20170514T030000
END:STANDARD
BEGIN:DAYLIGHT
TZOFFSETFROM:-0400
TZOFFSETTO:-0300
TZNAME:-03
DTSTART:20170813T040000
END:DAYLIGHT
BEGIN:STANDARD
TZOFFSETFROM:-0300
TZOFFSETTO:-0400
TZNAME:-04
DTSTART:20180513T030000
END:STANDARD
BEGIN:DAYLIGHT
TZOFFSETFROM:-0400
TZOFFSETTO:-0300
TZNAME:-03
DTSTART:20180812T040000
END:DAYLIGHT
BEGIN:STANDARD
TZOFFSETFROM:-0300
TZOFFSETTO:-0400
TZNAME:-04
DTSTART:20190407T030000
END:STANDARD
BEGIN:DAYLIGHT
TZOFFSETFROM:-0400
TZOFFSETTO:-0300
TZNAME:-03
DTSTART:20190908T040000
END:DAYLIGHT
BEGIN:STANDARD
TZOFFSETFROM:-0300
TZOFFSETTO:-0400
TZNAME:-04
DTSTART:20200405T030000
END:STANDARD
BEGIN:DAYLIGHT
TZOFFSETFROM:-0400
TZOFFSETTO:-0300
TZNAME:-03
DTSTART:20200906T040000
END:DAYLIGHT
BEGIN:STANDARD
TZOFFSETFROM:-0300
TZOFFSETTO:-0400
TZNAME:-04
DTSTART:20210404T030000
END:STANDARD
BEGIN:DAYLIGHT
TZOFFSETFROM:-0400
TZOFFSETTO:-0300
TZNAME:-03
DTSTART:20210905T040000
END:DAYLIGHT
BEGIN:STANDARD
TZOFFSETFROM:-0300
TZOFFSETTO:-0400
TZNAME:-04
DTSTART:20220403T030000
END:STANDARD
BEGIN:DAYLIGHT
TZOFFSETFROM:-0400
TZOFFSETTO:-0300
TZNAME:-03
DTSTART:20220911T040000
END:DAYLIGHT
BEGIN:STANDARD
TZOFFSETFROM:-0300
TZOFFSETTO:-0400
TZNAME:-04
DTSTART:20230402T030000
END:STANDARD
BEGIN:DAYLIGHT
TZOFFSETFROM:-0400
TZOFFSETTO:-0300
TZNAME:-03
DTSTART:20230903T040000
END:DAYLIGHT
BEGIN:STANDARD
TZOFFSETFROM:-0300
TZOFFSETTO:-0400
TZNAME:-04
DTSTART:20240407T030000
END:STANDARD
BEGIN:DAYLIGHT
TZOFFSETFROM:-0400
TZOFFSETTO:-0300
TZNAME:-03
DTSTART:20240908T040000
END:DAYLIGHT
BEGIN:STANDARD
TZOFFSETFROM:-0300
TZOFFSETTO:-0400
TZNAME:-04
DTSTART:20250406T030000
END:STANDARD
BEGIN:DAYLIGHT
TZOFFSETFROM:-0400
TZOFFSETTO:-0300
TZNAME:-03
DTSTART:20250907T040000
END:DAYLIGHT
BEGIN:STANDARD
TZOFFSETFROM:-0300
TZOFFSETTO:-0400
TZNAME:-04
DTSTART:20260405T030000
END:STANDARD
BEGIN:DAYLIGHT
TZOFFSETFROM:-0400
TZOFFSETTO:-0300
TZNAME:-03
DTSTART:20260906T040000
END:DAYLIGHT
END:VTIMEZONE
BEGIN:VTIMEZONE
TZID:America/Sao_Paulo
BEGIN:STANDARD
TZOFFSETFROM:-0200
TZOFFSETTO:-0300
TZNAME:-03
DTSTART:20150222T020000
END:STANDARD
BEGIN:DAYLIGHT
TZOFFSETFROM:-0300
TZOFFSETTO:-0200
TZNAME:-02
DTSTART:20151018T030000
END:DAYLIGHT
BEGIN:STANDARD
TZOFFSETFROM:-0200
TZOFFSETTO:-0300
TZNAME:-03
DTSTART:20160221T020000
END:STANDARD
BEGIN:DAYLIGHT
TZOFFSETFROM:-0300
TZOFFSETTO:-0200
TZNAME:-02
DTSTART:20161016T030000
END:DAYLIGHT
BEGIN:STANDARD
TZOFFSETFROM:-0200
TZOFFSETTO:-0300
TZNAME:-03
DTSTART:20170219T020000
END:STANDARD
BEGIN:DAYLIGHT
TZOFFSETFROM:-0300
TZOFFSETTO:-0200
TZNAME:-02
DTSTART:20171015T030000
END:DAYLIGHT
BEGIN:STANDARD
TZOFFSETFROM:-0200
TZOFFSETTO:-0300
TZNAME:-03
DTSTART:20180218T020000
END:STANDARD
BEGIN:DAYLIGHT
TZOFFSETFROM:-0300
TZOFFSETTO:-0200
TZNAME:-02
DTSTART:20181104T030000
END:DAYLIGHT
BEGIN:STANDARD
TZOFFSETFROM:-0200
TZOFFSETTO:-0300
TZNAME:-03
DTSTART:20190217T020000
END:STANDARD
END:VTIMEZONE
BEGIN:VEVENT
DTSTART;TZID=America/Santiago:20250906T100000
DTEND;TZID=America/Santiago:20250907T170000
DTSTAMP:20260422T180003
CREATED:20250717T202046Z
LAST-MODIFIED:20250719T233650Z
UID:989-1757152800-1757264400@pachamama.cl
SUMMARY:Spa para el Alma Mujeres
DESCRIPTION:
URL:https://pachamama.cl/evento/spa-para-el-alma-mujeres-20/
LOCATION:Cascada de las Animas\, Camino Al Volcan 31087\, San Alfonso\, Region Metropolitana\, Chile
CATEGORIES:Calendario,Encuentro Pachamama
ORGANIZER;CN="Pachamama":MAILTO:soco@pachamama.cl
END:VEVENT
BEGIN:VEVENT
DTSTART;TZID=America/Santiago:20250823T100000
DTEND;TZID=America/Santiago:20250824T170000
DTSTAMP:20260422T180003
CREATED:20250719T234008Z
LAST-MODIFIED:20250721T013721Z
UID:3514-1755943200-1756054800@pachamama.cl
SUMMARY:Spa para el Alma Mujeres
DESCRIPTION:
URL:https://pachamama.cl/evento/spa-para-el-alma-mujeres-19/
LOCATION:Cascada de las Animas\, Camino Al Volcan 31087\, San Alfonso\, Region Metropolitana\, Chile
CATEGORIES:Calendario,Encuentro Pachamama
ORGANIZER;CN="Pachamama":MAILTO:soco@pachamama.cl
END:VEVENT
BEGIN:VEVENT
DTSTART;TZID=America/Sao_Paulo:20250510T100000
DTEND;TZID=America/Sao_Paulo:20250511T170000
DTSTAMP:20260422T180003
CREATED:20250206T080809Z
LAST-MODIFIED:20250218T101307Z
UID:1223-1746871200-1746982800@pachamama.cl
SUMMARY:Spa para el Alma Mujeres
DESCRIPTION:
URL:https://pachamama.cl/evento/spa-para-el-alma-mujeres-8/
LOCATION:Cascada de las Animas\, Camino Al Volcan 31087\, San Alfonso\, Region Metropolitana\, Chile
CATEGORIES:Calendario,Encuentro Pachamama
ORGANIZER;CN="Pachamama":MAILTO:soco@pachamama.cl
END:VEVENT
BEGIN:VEVENT
DTSTART;TZID=America/Sao_Paulo:20250412T100000
DTEND;TZID=America/Sao_Paulo:20250413T100000
DTSTAMP:20260422T180003
CREATED:20250218T024830Z
LAST-MODIFIED:20250218T100647Z
UID:1315-1744452000-1744538400@pachamama.cl
SUMMARY:Spa para el Alma Mujeres
DESCRIPTION:
URL:https://pachamama.cl/evento/encuentro-pachamama/
LOCATION:Cascada de las Animas\, Camino Al Volcan 31087\, San Alfonso\, Region Metropolitana\, Chile
CATEGORIES:Calendario,Encuentro Pachamama
ORGANIZER;CN="Pachamama":MAILTO:soco@pachamama.cl
END:VEVENT
BEGIN:VEVENT
DTSTART;TZID=America/Santiago:20241116T100000
DTEND;TZID=America/Santiago:20241117T170000
DTSTAMP:20260422T180003
CREATED:20240813T123920Z
LAST-MODIFIED:20250218T100843Z
UID:976-1731751200-1731862800@pachamama.cl
SUMMARY:Spa para el Alma Mujeres
DESCRIPTION:
URL:https://pachamama.cl/evento/spa-para-el-alma-mujeres-2/
LOCATION:Cascada de las Animas\, Camino Al Volcan 31087\, San Alfonso\, Region Metropolitana\, Chile
CATEGORIES:Calendario,Encuentro Pachamama
ORGANIZER;CN="Pachamama":MAILTO:soco@pachamama.cl
END:VEVENT
BEGIN:VEVENT
DTSTART;TZID=America/Santiago:20241109T100000
DTEND;TZID=America/Santiago:20241110T170000
DTSTAMP:20260422T180003
CREATED:20240813T122045Z
LAST-MODIFIED:20240813T141640Z
UID:963-1731146400-1731258000@pachamama.cl
SUMMARY:Spa para el Alma Mujeres
DESCRIPTION:.
URL:https://pachamama.cl/evento/encuentro-pachamama-luna-llena/
LOCATION:Cascada de las Animas\, Camino Al Volcan 31087\, San Alfonso\, Region Metropolitana\, Chile
CATEGORIES:Calendario,Encuentro Pachamama
ORGANIZER;CN="Pachamama":MAILTO:soco@pachamama.cl
END:VEVENT
BEGIN:VEVENT
DTSTART;TZID=America/Sao_Paulo:20240907T100000
DTEND;TZID=America/Sao_Paulo:20240908T170000
DTSTAMP:20260422T180003
CREATED:20240804T142359Z
LAST-MODIFIED:20240804T173750Z
UID:1236-1725703200-1725814800@pachamama.cl
SUMMARY:Spa para el Alma Mujeres
DESCRIPTION:
URL:https://pachamama.cl/evento/spa-para-el-alma-mujeres-11/
LOCATION:Cascada de las Animas\, Camino Al Volcan 31087\, San Alfonso\, Region Metropolitana\, Chile
CATEGORIES:Calendario,Encuentro Pachamama
ORGANIZER;CN="Pachamama":MAILTO:soco@pachamama.cl
END:VEVENT
BEGIN:VEVENT
DTSTART;TZID=America/Santiago:20221203T100000
DTEND;TZID=America/Santiago:20221204T170000
DTSTAMP:20260422T180003
CREATED:20221005T135504Z
LAST-MODIFIED:20221005T135725Z
UID:2843-1670061600-1670173200@pachamama.cl
SUMMARY:Spa para el Alma Mujeres
DESCRIPTION:
URL:https://pachamama.cl/evento/spa-para-el-alma-mujeres-17/
LOCATION:Cascada de las Animas\, Camino Al Volcan 31087\, San Alfonso\, Region Metropolitana\, Chile
CATEGORIES:Calendario,Encuentro Pachamama
ORGANIZER;CN="Pachamama":MAILTO:soco@pachamama.cl
END:VEVENT
BEGIN:VEVENT
DTSTART;TZID=America/Sao_Paulo:20221001T100000
DTEND;TZID=America/Sao_Paulo:20221002T170000
DTSTAMP:20260422T180003
CREATED:20220901T190911Z
LAST-MODIFIED:20221005T133403Z
UID:1448-1664618400-1664730000@pachamama.cl
SUMMARY:Spa para el Alma Mujeres
DESCRIPTION:
URL:https://pachamama.cl/evento/spa-para-el-alma-mujeres-26-2/
LOCATION:Cascada de las Animas\, Camino Al Volcan 31087\, San Alfonso\, Region Metropolitana\, Chile
CATEGORIES:Calendario,Encuentro Pachamama
ORGANIZER;CN="Pachamama":MAILTO:soco@pachamama.cl
END:VEVENT
BEGIN:VEVENT
DTSTART;TZID=America/Sao_Paulo:20220910T100000
DTEND;TZID=America/Sao_Paulo:20220911T170000
DTSTAMP:20260422T180003
CREATED:20220405T235452Z
LAST-MODIFIED:20220628T194151Z
UID:2817-1662804000-1662915600@pachamama.cl
SUMMARY:Spa para el Alma Mujeres
DESCRIPTION:
URL:https://pachamama.cl/evento/spa-para-el-alma-mujeres-26/
LOCATION:Cascada de las Animas\, Camino Al Volcan 31087\, San Alfonso\, Region Metropolitana\, Chile
CATEGORIES:Calendario,Encuentro Pachamama
ORGANIZER;CN="Pachamama":MAILTO:soco@pachamama.cl
END:VEVENT
BEGIN:VEVENT
DTSTART;TZID=America/Sao_Paulo:20211016T100000
DTEND;TZID=America/Sao_Paulo:20211017T170000
DTSTAMP:20260422T180003
CREATED:20210923T183726Z
LAST-MODIFIED:20210923T224544Z
UID:2496-1634378400-1634490000@pachamama.cl
SUMMARY:Spa para el Alma Mujeres
DESCRIPTION:
URL:https://pachamama.cl/evento/spa-para-el-alma-mujeres-21/
LOCATION:Cascada de las Animas\, Camino Al Volcan 31087\, San Alfonso\, Region Metropolitana\, Chile
CATEGORIES:Calendario,Encuentro Pachamama
ORGANIZER;CN="Pachamama":MAILTO:soco@pachamama.cl
END:VEVENT
BEGIN:VEVENT
DTSTART;TZID=America/Sao_Paulo:20181125T100000
DTEND;TZID=America/Sao_Paulo:20181126T170000
DTSTAMP:20260422T180003
CREATED:20181111T150327Z
LAST-MODIFIED:20221005T133436Z
UID:1487-1543140000-1543251600@pachamama.cl
SUMMARY:Spa para el Alma Mujeres
DESCRIPTION:
URL:https://pachamama.cl/evento/spa-para-el-alma-mujeres-18/
LOCATION:Cascada de las Animas\, Camino Al Volcan 31087\, San Alfonso\, Region Metropolitana\, Chile
CATEGORIES:Calendario,Encuentro Pachamama
ORGANIZER;CN="Pachamama":MAILTO:soco@pachamama.cl
END:VEVENT
BEGIN:VEVENT
DTSTART;TZID=America/Sao_Paulo:20180623T100000
DTEND;TZID=America/Sao_Paulo:20180624T170000
DTSTAMP:20260422T180003
CREATED:20180219T213504Z
LAST-MODIFIED:20180219T213611Z
UID:1373-1529748000-1529859600@pachamama.cl
SUMMARY:Spa para el Alma Mujeres
DESCRIPTION:
URL:https://pachamama.cl/evento/spa-para-el-alma-mujeres-16/
LOCATION:Cascada de las Animas\, Camino Al Volcan 31087\, San Alfonso\, Region Metropolitana\, Chile
CATEGORIES:Calendario,Encuentro Pachamama
ORGANIZER;CN="Pachamama":MAILTO:soco@pachamama.cl
END:VEVENT
BEGIN:VEVENT
DTSTART;TZID=America/Sao_Paulo:20180526T100000
DTEND;TZID=America/Sao_Paulo:20180527T170000
DTSTAMP:20260422T180003
CREATED:20180219T213328Z
LAST-MODIFIED:20180219T213546Z
UID:1371-1527328800-1527440400@pachamama.cl
SUMMARY:Spa para el Alma Mujeres
DESCRIPTION:
URL:https://pachamama.cl/evento/spa-para-el-alma-mujeres-15/
LOCATION:Cascada de las Animas\, Camino Al Volcan 31087\, San Alfonso\, Region Metropolitana\, Chile
CATEGORIES:Calendario,Encuentro Pachamama
ORGANIZER;CN="Pachamama":MAILTO:soco@pachamama.cl
END:VEVENT
BEGIN:VEVENT
DTSTART;TZID=America/Sao_Paulo:20180421T100000
DTEND;TZID=America/Sao_Paulo:20180422T170000
DTSTAMP:20260422T180003
CREATED:20180219T212804Z
LAST-MODIFIED:20180219T213646Z
UID:1366-1524304800-1524416400@pachamama.cl
SUMMARY:Spa para el Alma Mujeres
DESCRIPTION:
URL:https://pachamama.cl/evento/spa-para-el-alma-mujeres-14/
LOCATION:Cascada de las Animas\, Camino Al Volcan 31087\, San Alfonso\, Region Metropolitana\, Chile
CATEGORIES:Calendario,Encuentro Pachamama
ORGANIZER;CN="Pachamama":MAILTO:soco@pachamama.cl
END:VEVENT
BEGIN:VEVENT
DTSTART;TZID=America/Sao_Paulo:20180106T100000
DTEND;TZID=America/Sao_Paulo:20180107T170000
DTSTAMP:20260422T180003
CREATED:20170730T040714Z
LAST-MODIFIED:20170730T045052Z
UID:1323-1515232800-1515344400@pachamama.cl
SUMMARY:Spa para el Alma Mujeres
DESCRIPTION:
URL:https://pachamama.cl/evento/spa-para-el-alma-mujeres-13/
LOCATION:Cascada de las Animas\, Camino Al Volcan 31087\, San Alfonso\, Region Metropolitana\, Chile
CATEGORIES:Calendario,Encuentro Pachamama
ORGANIZER;CN="Pachamama":MAILTO:soco@pachamama.cl
END:VEVENT
BEGIN:VEVENT
DTSTART;TZID=America/Sao_Paulo:20171202T100000
DTEND;TZID=America/Sao_Paulo:20171203T170000
DTSTAMP:20260422T180003
CREATED:20170730T040527Z
LAST-MODIFIED:20170730T045125Z
UID:1320-1512208800-1512320400@pachamama.cl
SUMMARY:Spa Para el Alma Mujeres
DESCRIPTION:
URL:https://pachamama.cl/evento/spa-para-el-alma-mujeres-12/
LOCATION:Cascada de las Animas\, Camino Al Volcan 31087\, San Alfonso\, Region Metropolitana\, Chile
CATEGORIES:Calendario,Encuentro Pachamama
ORGANIZER;CN="Pachamama":MAILTO:soco@pachamama.cl
END:VEVENT
BEGIN:VEVENT
DTSTART;TZID=America/Sao_Paulo:20171104T100000
DTEND;TZID=America/Sao_Paulo:20171105T170000
DTSTAMP:20260422T180003
CREATED:20170730T040223Z
LAST-MODIFIED:20170730T045206Z
UID:1318-1509789600-1509901200@pachamama.cl
SUMMARY:Spa para el Alma Mujeres
DESCRIPTION:
URL:https://pachamama.cl/evento/spa-para-alma-mujer/
LOCATION:Cascada de las Animas\, Camino Al Volcan 31087\, San Alfonso\, Region Metropolitana\, Chile
CATEGORIES:Calendario,Encuentro Pachamama
ORGANIZER;CN="Pachamama":MAILTO:soco@pachamama.cl
END:VEVENT
BEGIN:VEVENT
DTSTART;TZID=America/Sao_Paulo:20161112T100000
DTEND;TZID=America/Sao_Paulo:20161113T170000
DTSTAMP:20260422T180003
CREATED:20160817T132010Z
LAST-MODIFIED:20160817T134756Z
UID:1235-1478944800-1479056400@pachamama.cl
SUMMARY:Spa para el Alma Mujeres
DESCRIPTION:
URL:https://pachamama.cl/evento/spa-para-el-alma-mujeres-10/
LOCATION:Cascada de las Animas\, Camino Al Volcan 31087\, San Alfonso\, Region Metropolitana\, Chile
CATEGORIES:Encuentro Pachamama
ORGANIZER;CN="Pachamama":MAILTO:soco@pachamama.cl
END:VEVENT
BEGIN:VEVENT
DTSTART;TZID=America/Sao_Paulo:20161029T093000
DTEND;TZID=America/Sao_Paulo:20161029T203000
DTSTAMP:20260422T180003
CREATED:20160817T133654Z
LAST-MODIFIED:20160817T134612Z
UID:1238-1477733400-1477773000@pachamama.cl
SUMMARY:Encuentros Madres y Hijas Adolescentes
DESCRIPTION:
URL:https://pachamama.cl/evento/encuentro-madres-y-hijas-adolescentes/
LOCATION:Cascada de las Animas\, Camino Al Volcan 31087\, San Alfonso\, Region Metropolitana\, Chile
CATEGORIES:Encuentros Madres y Hijas Adolescentes
ORGANIZER;CN="Pachamama":MAILTO:soco@pachamama.cl
END:VEVENT
BEGIN:VEVENT
DTSTART;TZID=America/Sao_Paulo:20161015T100000
DTEND;TZID=America/Sao_Paulo:20161016T170000
DTSTAMP:20260422T180003
CREATED:20160817T131443Z
LAST-MODIFIED:20160817T134902Z
UID:1234-1476525600-1476637200@pachamama.cl
SUMMARY:Spa para el Alma Mujeres
DESCRIPTION:
URL:https://pachamama.cl/evento/spa-para-el-alma-mujeres-9/
LOCATION:Cascada de las Animas\, Camino Al Volcan 31087\, San Alfonso\, Region Metropolitana\, Chile
CATEGORIES:Encuentro Pachamama
ORGANIZER;CN="Pachamama":MAILTO:soco@pachamama.cl
END:VEVENT
BEGIN:VEVENT
DTSTART;TZID=America/Sao_Paulo:20160618T100000
DTEND;TZID=America/Sao_Paulo:20160619T170000
DTSTAMP:20260422T180003
CREATED:20160506T073938Z
LAST-MODIFIED:20160817T133006Z
UID:1220-1466244000-1466355600@pachamama.cl
SUMMARY:Spa para el Alma Mujeres
DESCRIPTION:
URL:https://pachamama.cl/evento/spa-para-el-alma-mujeres-7/
LOCATION:Cascada de las Animas\, Camino Al Volcan 31087\, San Alfonso\, Region Metropolitana\, Chile
CATEGORIES:Calendario,Encuentro Pachamama
ORGANIZER;CN="Pachamama":MAILTO:soco@pachamama.cl
END:VEVENT
BEGIN:VEVENT
DTSTART;TZID=America/Sao_Paulo:20160521T100000
DTEND;TZID=America/Sao_Paulo:20160522T170000
DTSTAMP:20260422T180003
CREATED:20160317T225548Z
LAST-MODIFIED:20160317T225548Z
UID:1160-1463824800-1463936400@pachamama.cl
SUMMARY:Spa para el Alma Mujeres
DESCRIPTION:
URL:https://pachamama.cl/evento/spa-para-el-alma-mujeres-6/
LOCATION:Cascada de las Animas\, Camino Al Volcan 31087\, San Alfonso\, Region Metropolitana\, Chile
CATEGORIES:Calendario,Encuentro Pachamama
ORGANIZER;CN="Pachamama":MAILTO:soco@pachamama.cl
END:VEVENT
BEGIN:VEVENT
DTSTART;TZID=America/Sao_Paulo:20160423T100000
DTEND;TZID=America/Sao_Paulo:20160424T170000
DTSTAMP:20260422T180003
CREATED:20160317T220655Z
LAST-MODIFIED:20160317T225359Z
UID:1158-1461405600-1461517200@pachamama.cl
SUMMARY:Spa para el Alma Mujeres
DESCRIPTION:
URL:https://pachamama.cl/evento/spa-para-el-alma-mujeres-3/
LOCATION:Cascada de las Animas\, Camino Al Volcan 31087\, San Alfonso\, Region Metropolitana\, Chile
CATEGORIES:Calendario,Encuentro Pachamama
ORGANIZER;CN="Pachamama":MAILTO:soco@pachamama.cl
END:VEVENT
BEGIN:VEVENT
DTSTART;VALUE=DATE:20160412
DTEND;VALUE=DATE:20160422
DTSTAMP:20260422T180003
CREATED:20150804T065950Z
LAST-MODIFIED:20150804T071359Z
UID:1021-1460419200-1461283199@pachamama.cl
SUMMARY:Bosques Milenarios
DESCRIPTION:
URL:https://pachamama.cl/evento/bosques-milenarios/
LOCATION:Pucón – Icalma (nacimientos del Bío-Bío)\, Plaza de Pucón\, Pucón\, Región Araucanía\, Chile
CATEGORIES:Bosques Milenarios,Calendario
ORGANIZER;CN="Pachamama":MAILTO:soco@pachamama.cl
END:VEVENT
BEGIN:VEVENT
DTSTART;VALUE=DATE:20160315
DTEND;VALUE=DATE:20160325
DTSTAMP:20260422T180003
CREATED:20150804T070320Z
LAST-MODIFIED:20150804T070849Z
UID:1024-1458000000-1458863999@pachamama.cl
SUMMARY:Bosques Milenarios
DESCRIPTION:
URL:https://pachamama.cl/evento/bosques-milenarios-2/
LOCATION:Pucón – Icalma (nacimientos del Bío-Bío)\, Plaza de Pucón\, Pucón\, Región Araucanía\, Chile
CATEGORIES:Bosques Milenarios,Calendario
ORGANIZER;CN="Pachamama":MAILTO:soco@pachamama.cl
END:VEVENT
BEGIN:VEVENT
DTSTART;TZID=America/Santiago:20160213T100000
DTEND;TZID=America/Santiago:20160214T170000
DTSTAMP:20260422T180003
CREATED:20150724T012459Z
LAST-MODIFIED:20150727T091214Z
UID:984-1455357600-1455469200@pachamama.cl
SUMMARY:Spa para el Alma Mujeres
DESCRIPTION:
URL:https://pachamama.cl/evento/spa-para-el-alma-mujeres-5/
LOCATION:Cascada de las Animas\, Camino Al Volcan 31087\, San Alfonso\, Region Metropolitana\, Chile
CATEGORIES:Calendario,Encuentro Pachamama
ORGANIZER;CN="Pachamama":MAILTO:soco@pachamama.cl
END:VEVENT
BEGIN:VEVENT
DTSTART;TZID=America/Santiago:20160130T100000
DTEND;TZID=America/Santiago:20160131T170000
DTSTAMP:20260422T180003
CREATED:20150724T012122Z
LAST-MODIFIED:20160111T230224Z
UID:983-1454148000-1454259600@pachamama.cl
SUMMARY:Spa para el Alma Mujeres
DESCRIPTION:
URL:https://pachamama.cl/evento/spa-para-el-alma-mujeres-luna-llena-2/
LOCATION:Cascada de las Animas\, Camino Al Volcan 31087\, San Alfonso\, Region Metropolitana\, Chile
CATEGORIES:Calendario,Encuentro Pachamama
ORGANIZER;CN="Pachamama":MAILTO:soco@pachamama.cl
END:VEVENT
BEGIN:VEVENT
DTSTART;TZID=America/Santiago:20151226T080000
DTEND;TZID=America/Santiago:20151227T170000
DTSTAMP:20260422T180003
CREATED:20150801T233843Z
LAST-MODIFIED:20150801T234546Z
UID:1018-1451116800-1451235600@pachamama.cl
SUMMARY:Pachamama 2
DESCRIPTION:
URL:https://pachamama.cl/evento/pachamama-2-2/
LOCATION:Cascada de las Animas\, Camino Al Volcan 31087\, San Alfonso\, Region Metropolitana\, Chile
CATEGORIES:Calendario,Pachamama 2
ORGANIZER;CN="Pachamama":MAILTO:soco@pachamama.cl
END:VEVENT
BEGIN:VEVENT
DTSTART;TZID=America/Santiago:20151205T100000
DTEND;TZID=America/Santiago:20151206T170000
DTSTAMP:20260422T180003
CREATED:20150724T011745Z
LAST-MODIFIED:20150907T181309Z
UID:982-1449309600-1449421200@pachamama.cl
SUMMARY:Spa para el Alma Mujeres
DESCRIPTION:
URL:https://pachamama.cl/evento/spa-para-el-alma-mujeres-4/
LOCATION:Cascada de las Animas\, Camino Al Volcan 31087\, San Alfonso\, Region Metropolitana\, Chile
CATEGORIES:Calendario,Encuentro Pachamama
ORGANIZER;CN="Pachamama":MAILTO:soco@pachamama.cl
END:VEVENT
END:VCALENDAR